BEGIN:VCALENDAR
VERSION:2.0
PRODID:-//Sabre//Sabre VObject 4.5.6//EN
CALSCALE:GREGORIAN
BEGIN:VEVENT
UID:sabre-vobject-51b070f2-013a-4a67-96e8-5a59cc2fbddb
DTSTAMP:20260419T102607Z
SUMMARY:Conférence virtuelle « Ma maison écolo et écono\, un geste à l
 a fois »&nbsp\; (19 h)
DESCRIPTION:À l'occasion du Jour de la Terre\, la Ville de Saint-Sauveur o
 ffre à ses citoyens l'atelier participatif virtuel « Ma maison écolo et
  écono\, un geste à la fois »\, animé par l’organisme Jour de la Ter
 re Canada.\n\nDécouvrez de bonnes pratiques et réduisez vos factures san
 s sacrifier votre confort. Consommation énergétique\, empreinte matérie
 lle ou consommation d’eau\, cet atelier propose des solutions économiqu
 es et des astuces concrètes et faciles. \n\nM'inscrire*\n\n*Un lien de c
 onnexion vous sera envoyé par courriel après votre inscription.\n\nVoir:
  https://www.vss.ca/evenement/conference-virtuelle-ma-maison-ecolo-et-econ
 o-un-geste-a-la-fois-nbsp
LOCATION:En ligne
DTSTART:20260430T230000Z
DTEND:20260501T000000Z
END:VEVENT
END:VCALENDAR
